BEGIN:VCALENDAR
VERSION:2.0
PRODID:-//eventon.com NONSGML v1.0//EN
BEGIN:VEVENT
UID:69ec2887317d4
DTSTAMP:20260424T223551
DTSTART:20260425T120000Z
DTEND:20260425T160000Z
LOCATION:
SUMMARY:Light Orlando Spring Community Closet Clothing Clean-out for Charity
DESCRIPTION: FOR IMMEDIATE RELEASE Contact: Troy Wright\,  Camille McCashland Troy@acahand.org | Camille@acahand.org 407-797-3039 | 208-866-3320 Light Orlando www.lightorlando.org Light Orlando Seeks Volunteers for Annual Community Closet Clean Out on April 25\,  2026 ORLANDO\,  FL — April 20\,  2025 — Light Orlando is inviting volunteers from across Central Florida to participate in[..]
END:VEVENT
END:VCALENDAR